BEGIN:VCALENDAR
VERSION:2.0
PRODID:spatie/icalendar-generator
DESCRIPTION:Veranstaltungen von BRK-Wasserwacht Vilshofen a. d. Donau
X-WR-CALDESC:Veranstaltungen von BRK-Wasserwacht Vilshofen a. d. Donau
REFRESH-INTERVAL;VALUE=DURATION:PT1440M
X-PUBLISHED-TTL:PT1440M
BEGIN:VTIMEZONE
TZID:Europe/Berlin
BEGIN:DAYLIGHT
DTSTART:20250330T020000Z
TZOFFSETFROM:+0100
TZOFFSETTO:+0200
END:DAYLIGHT
BEGIN:STANDARD
DTSTART:20251026T030000Z
TZOFFSETFROM:+0200
TZOFFSETTO:+0100
END:STANDARD
END:VTIMEZONE
BEGIN:VTIMEZONE
TZID:UTC
BEGIN:STANDARD
DTSTART:20250724T091122Z
TZOFFSETFROM:+0000
TZOFFSETTO:+0000
END:STANDARD
END:VTIMEZONE
BEGIN:VEVENT
UID:201-51
DTSTAMP:20260420T091122Z
SUMMARY:Training Bad
LOCATION:Hallenbad
ORGANIZER;CN=M G:MAILTO:Michael.Guenzel@wasserwacht.bayern
RRULE:FREQ=WEEKLY;UNTIL=20251028T000000Z
DTSTART;TZID=Europe/Berlin:20250922T191500
DTEND;TZID=Europe/Berlin:20250922T201500
X-ALT-DESC;FMTTYPE=TEXT/HTML:
CATEGORIES:Ausbildung
URL;VALUE=URI:https://wasserwacht-vilshofen.de/mc-events/training-bad-3/?mc
 _id=201
END:VEVENT
END:VCALENDAR