BEGIN:VCALENDAR
VERSION:2.0
PRODID:spatie/icalendar-generator
DESCRIPTION:Veranstaltungen von BRK-Wasserwacht Vilshofen a. d. Donau
X-WR-CALDESC:Veranstaltungen von BRK-Wasserwacht Vilshofen a. d. Donau
REFRESH-INTERVAL;VALUE=DURATION:PT1440M
X-PUBLISHED-TTL:PT1440M
BEGIN:VTIMEZONE
TZID:Europe/Berlin
BEGIN:STANDARD
DTSTART:20241027T030000Z
TZOFFSETFROM:+0200
TZOFFSETTO:+0100
END:STANDARD
BEGIN:DAYLIGHT
DTSTART:20250330T020000Z
TZOFFSETFROM:+0100
TZOFFSETTO:+0200
END:DAYLIGHT
END:VTIMEZONE
BEGIN:VTIMEZONE
TZID:UTC
BEGIN:STANDARD
DTSTART:20250724T141622Z
TZOFFSETFROM:+0000
TZOFFSETTO:+0000
END:STANDARD
END:VTIMEZONE
BEGIN:VEVENT
UID:29-17
DTSTAMP:20260420T141622Z
SUMMARY:Innschwimmen in Passau
LOCATION:WW-Zentrum Jahnallee
ORGANIZER;CN=M G:MAILTO:Michael.Guenzel@wasserwacht.bayern
DTSTART;TZID=Europe/Berlin:20250301T080000
DTEND;TZID=Europe/Berlin:20250301T150000
X-ALT-DESC;FMTTYPE=TEXT/HTML:Anschwimmen Inn Passau - Abfahrt 8 Uhr WW VOF 
 - Treffpunkt: ​​ab 9:00 Uhr Turnhalle des Gymnasium Leopoldinum - Abfa
 hrt Bus zum Start: ​10:30 am Römerplatz - Start der Schwimmer: ​ca. 1
 1:00 Uhr - Schwimmstrecke: ​​Kraftwerk Ingling bis zur Ortspitze ca. 3
 .5 km - Eintreffen am Ziel: ​ca. 12:00 Uhr - Gemeinsames Essen:​ ab 12
 :30&amp;hellip\;
CATEGORIES:Allgemein,  Gemeinschaft,  Jugend,  SEG
URL;VALUE=URI:https://wasserwacht-vilshofen.de/mc-events/innschwimmen-in-pa
 ssau/?mc_id=29
END:VEVENT
END:VCALENDAR